BEGIN:VCALENDAR
VERSION:2.0
PRODID:-// - ECPv6.15.20//NONSGML v1.0//EN
CALSCALE:GREGORIAN
METHOD:PUBLISH
X-ORIGINAL-URL:http://gampau.fr
X-WR-CALDESC:Évènements pour 
REFRESH-INTERVAL;VALUE=DURATION:PT1H
X-Robots-Tag:noindex
X-PUBLISHED-TTL:PT1H
BEGIN:VTIMEZONE
TZID:Europe/Paris
BEGIN:DAYLIGHT
TZOFFSETFROM:+0100
TZOFFSETTO:+0200
TZNAME:CEST
DTSTART:20240331T010000
END:DAYLIGHT
BEGIN:STANDARD
TZOFFSETFROM:+0200
TZOFFSETTO:+0100
TZNAME:CET
DTSTART:20241027T010000
END:STANDARD
BEGIN:DAYLIGHT
TZOFFSETFROM:+0100
TZOFFSETTO:+0200
TZNAME:CEST
DTSTART:20250330T010000
END:DAYLIGHT
BEGIN:STANDARD
TZOFFSETFROM:+0200
TZOFFSETTO:+0100
TZNAME:CET
DTSTART:20251026T010000
END:STANDARD
BEGIN:DAYLIGHT
TZOFFSETFROM:+0100
TZOFFSETTO:+0200
TZNAME:CEST
DTSTART:20260329T010000
END:DAYLIGHT
BEGIN:STANDARD
TZOFFSETFROM:+0200
TZOFFSETTO:+0100
TZNAME:CET
DTSTART:20261025T010000
END:STANDARD
END:VTIMEZONE
BEGIN:VEVENT
DTSTART;TZID=Europe/Paris:20251020T090000
DTEND;TZID=Europe/Paris:20251023T190000
DTSTAMP:20260420T055529
CREATED:20250904T101926Z
LAST-MODIFIED:20250904T103354Z
UID:4621-1760950800-1761246000@gampau.fr
SUMMARY:Stage de création musicale - Vacances Toussaint 2025
DESCRIPTION:Les stagiaires accompagnés des musiciens du GAM se retrouvent pendant 4 jours\, afin d’élaborer ensemble une création instrumentale et vocale. Suivant une thématique surprise. \nCe stage est destiné aux jeunes de 11 à 15 ans ayant une pratique musicale (ouvert également aux anciens adhérents et jeunes musiciens des écoles de musique).\nCette semaine de stage propose une synthèse des activités musicales développées au cours de l’année au GAM\, où les différents ateliers (instrumental\, vocal\, audition\, recherche…) concourent à la réalisation d’une création collective. \nLa création donne lieu à une restitution de sortie de résidence le 23 octobre à 18h30\n et un concert à la centrifugeuse le 3 décembre 2025 à 20h30. \nCliquer pour accéder à Stage_crea_Toussaint-2025-plaquette.ai_.pdf
URL:http://gampau.fr/event/stage-de-creation-musicale-vacances-toussaint-2025/
LOCATION:Espaces Pluriels\, Pau\, France
CATEGORIES:Stage Été
ATTACH;FMTTYPE=image/png:http://gampau.fr/wp-content/uploads/2025/09/Affiche_stage_hiver_2025_A3.png
ORGANIZER;CN="GAM":MAILTO:luc.mezieres@gampau.fr
END:VEVENT
END:VCALENDAR