BEGIN:VCALENDAR
VERSION:2.0
PRODID:-// - ECPv6.15.20//NONSGML v1.0//EN
CALSCALE:GREGORIAN
METHOD:PUBLISH
X-ORIGINAL-URL:https://gampau.fr
X-WR-CALDESC:Évènements pour 
REFRESH-INTERVAL;VALUE=DURATION:PT1H
X-Robots-Tag:noindex
X-PUBLISHED-TTL:PT1H
BEGIN:VTIMEZONE
TZID:Europe/Paris
BEGIN:DAYLIGHT
TZOFFSETFROM:+0100
TZOFFSETTO:+0200
TZNAME:CEST
DTSTART:20240331T010000
END:DAYLIGHT
BEGIN:STANDARD
TZOFFSETFROM:+0200
TZOFFSETTO:+0100
TZNAME:CET
DTSTART:20241027T010000
END:STANDARD
BEGIN:DAYLIGHT
TZOFFSETFROM:+0100
TZOFFSETTO:+0200
TZNAME:CEST
DTSTART:20250330T010000
END:DAYLIGHT
BEGIN:STANDARD
TZOFFSETFROM:+0200
TZOFFSETTO:+0100
TZNAME:CET
DTSTART:20251026T010000
END:STANDARD
BEGIN:DAYLIGHT
TZOFFSETFROM:+0100
TZOFFSETTO:+0200
TZNAME:CEST
DTSTART:20260329T010000
END:DAYLIGHT
BEGIN:STANDARD
TZOFFSETFROM:+0200
TZOFFSETTO:+0100
TZNAME:CET
DTSTART:20261025T010000
END:STANDARD
END:VTIMEZONE
BEGIN:VEVENT
DTSTART;TZID=Europe/Paris:20250203T183000
DTEND;TZID=Europe/Paris:20250217T203000
DTSTAMP:20260420T093043
CREATED:20241010T132402Z
LAST-MODIFIED:20241010T133357Z
UID:4438-1738607400-1739824200@gampau.fr
SUMMARY:Escape GAM musical
DESCRIPTION:ESCAPE GAM MUSICAL\nFAIRE DE LA MUSIQUE UN JEU(ce jeu ne nécessite aucun prérequis musical) \nÉvadez vous de votre quotidien en 3 actes\nLes actes se jouent autour du plaisir de la découverte\, de la construction musicale collective et du partage. Se laisser guider sur les rives de la création collective par le musicien animateur du GAM. \nActe 1 : Evasion par le plaisir de la découverte.\nOn se rencontre par des jeux musicaux\n. On prend possession des espaces\n. On appréhende le geste musical\n. On découvre des dispositifs instrumentaux variés \nActe 2 : Evasion par le plaisir de construire ensemble\n. On détermine un thème pour nourrir nos idées sonores . On cherche des rythmiques à combiner\n. On élabore des mélodies à orchestrer\n. On se relaxe en écoutant une musique d’ici ou d’ailleurs \nActe 3 : Evasion par le frisson de la création\n. On affine nos idées musicales\n. On structure ensemble\n. On répète\n. On enregistre pour garder une trace\, un souvenir \nTarifs: 75€ les 3 séances\nAdhésion facultative: 20€ (adhésion famille à l’association GAM)
URL:https://gampau.fr/event/escape-gam-musical/
LOCATION:GAM\, 26 Av. des Lilas Bâtiment R\, Pau\, 64000\, France
CATEGORIES:Escape GAM musical
ATTACH;FMTTYPE=image/png:https://gampau.fr/wp-content/uploads/2024/05/1.png
ORGANIZER;CN="GAM":MAILTO:luc.mezieres@gampau.fr
END:VEVENT
END:VCALENDAR